BEGIN:VCALENDAR
VERSION:2.0
PRODID:-//Washington Health Benefit Exchange - ECPv4.6.18//NONSGML v1.0//EN
CALSCALE:GREGORIAN
METHOD:PUBLISH
X-WR-CALNAME:Washington Health Benefit Exchange
X-ORIGINAL-URL:https://www.wahbexchange.org
X-WR-CALDESC:Events for Washington Health Benefit Exchange
BEGIN:VEVENT
DTSTART;TZID=America/Los_Angeles:20180530T130000
DTEND;TZID=America/Los_Angeles:20180530T143000
DTSTAMP:20180626T082106
CREATED:20171222T180901Z
LAST-MODIFIED:20180525T214010Z
UID:39906-1527685200-1527690600@www.wahbexchange.org
SUMMARY:Health Equity TAC Meeting
DESCRIPTION:Teleconference: 1-719-359-9722 \nPasscode: 583736 \nWebinar: https://wahbexchange1.globalmeet.com/Policy2 \nMeeting Materials:\nAgenda \n
URL:https://www.wahbexchange.org/event/health-equity-tac-meeting-14-2018-05-30/
CATEGORIES:Health Equity TAC
END:VEVENT
BEGIN:VEVENT
DTSTART;TZID=America/Los_Angeles:20180604T133000
DTEND;TZID=America/Los_Angeles:20180604T150000
DTSTAMP:20180626T082106
CREATED:20171222T181144Z
LAST-MODIFIED:20180302T230331Z
UID:39912-1528119000-1528124400@www.wahbexchange.org
SUMMARY:Dental Plan TAC Meeting
DESCRIPTION:Teleconference: 1-719-359-9722\nPasscode: 583736 \n
URL:https://www.wahbexchange.org/event/dental-plan-tac-meeting-11-2018-06-04/2018-06-04/
LOCATION:WA
GEO:47.7510741;-120.7401386
CATEGORIES:Dental Plan TAC 
END:VEVENT
BEGIN:VEVENT
DTSTART;TZID=America/Los_Angeles:20180605T093000
DTEND;TZID=America/Los_Angeles:20180605T103000
DTSTAMP:20180626T082106
CREATED:20180205T234113Z
LAST-MODIFIED:20180604T234044Z
UID:40630-1528191000-1528194600@www.wahbexchange.org
SUMMARY:Role of Agents & Brokers TAC meeting
DESCRIPTION:Teleconference: 1-719-457-0613 Passcode: 939153\nWebinar: https://wahbexchange1.globalmeet.com/Communications2 \nAgenda\nRAB TAC Charter \n  \n  \n
URL:https://www.wahbexchange.org/event/2018-04-03-2018-06-05/
LOCATION:WA\, United States
GEO:47.7510741;-120.7401385
CATEGORIES:Role of Agents & Brokers TAC
ORGANIZER;CN="Carly%20Christiansen":MAILTO:carly.christiansen@wahbexchange.org
END:VEVENT
BEGIN:VEVENT
DTSTART;TZID=America/Los_Angeles:20180606T100000
DTEND;TZID=America/Los_Angeles:20180606T110000
DTSTAMP:20180626T082106
CREATED:20171222T183738Z
LAST-MODIFIED:20180604T173006Z
UID:39940-1528279200-1528282800@www.wahbexchange.org
SUMMARY:All-Committee Group Meeting
DESCRIPTION:Teleconference: 1-719-359-9722\nPasscode: 583736 \nWebinar: https://wahbexchange1.globalmeet.com/Policy2  \nMeeting Materials:\nAgenda \n
URL:https://www.wahbexchange.org/event/committee-group-meeting-3-2018-04-04-2018-06-06/
CATEGORIES:All-Committee Group
END:VEVENT
BEGIN:VEVENT
DTSTART;TZID=America/Los_Angeles:20180612T103000
DTEND;TZID=America/Los_Angeles:20180612T123000
DTSTAMP:20180626T082106
CREATED:20171222T174824Z
LAST-MODIFIED:20180612T185935Z
UID:39893-1528799400-1528806600@www.wahbexchange.org
SUMMARY:Policy Committee Meeting
DESCRIPTION:Teleconference: 1-719-359-9722 \nPasscode: 583736 \nMeeting Material: \n\nAgenda\n2019 Plan Certification Update\nAffordability Discussion\nOregon Standardized Plan Summary\nCalifornia Standardized Plan Summary\nPlan Rate Increase On Exchange\nPlan Rate Increase Off Exchange\n\n
URL:https://www.wahbexchange.org/event/policy-committee-meeting-13-2018-02-13-2018-06-12/
LOCATION:WA
GEO:47.7510741;-120.7401386
CATEGORIES:Policy Committee
END:VEVENT
BEGIN:VEVENT
DTSTART;TZID=America/Los_Angeles:20180614T100000
DTEND;TZID=America/Los_Angeles:20180614T103000
DTSTAMP:20180626T082106
CREATED:20171211T172015Z
LAST-MODIFIED:20180614T164420Z
UID:39723-1528970400-1528972200@www.wahbexchange.org
SUMMARY:Consumer Community
DESCRIPTION:Teleconference: 1-712-770-4218 \nPasscode: 341003 \nWebinar: https://wahbexchange1.globalmeet.com/Communications1 \nMeeting Materials:\n \n\nAgenda\nPresentation\n\nThe Consumer Community is intended to provide a venue for community members and organizations seeking to offer input on a variety of issues related to Washington Healthplanfinder. \n
URL:https://www.wahbexchange.org/event/consumer-community-2018-04-12-2018-06-14/
LOCATION:WA\, United States
GEO:47.7510741;-120.7401385
CATEGORIES:Consumer Workgroup
ORGANIZER;CN="Carly%20Christiansen":MAILTO:carly.christiansen@wahbexchange.org
END:VEVENT
BEGIN:VEVENT
DTSTART;TZID=America/Los_Angeles:20180614T100000
DTEND;TZID=America/Los_Angeles:20180614T120000
DTSTAMP:20180626T082106
CREATED:20171222T180148Z
LAST-MODIFIED:20180612T205015Z
UID:39899-1528970400-1528977600@www.wahbexchange.org
SUMMARY:Operations Committee Meeting
DESCRIPTION:Teleconference: 1-719-359-9722\nPasscode: 583736 \nMeeting Materials: \n\nAgenda\nFinancial Report\n2019 Plan Submission Overview\n2019 Plan Rate Increase On Exchange\n2019 Plan Rate Increase Off Exchange\nAffordability Discussion\nOregon Standardization Plan Summary\nCalifornia Standardization Plan Summary\n\n
URL:https://www.wahbexchange.org/event/operations-committee-meeting-14-2018-06-14/
LOCATION:WA
GEO:47.7510741;-120.7401386
CATEGORIES:Operations Committee
END:VEVENT
BEGIN:VEVENT
DTSTART;TZID=America/Los_Angeles:20180621T090000
DTEND;TZID=America/Los_Angeles:20180621T170000
DTSTAMP:20180626T082106
CREATED:20180511T183104Z
LAST-MODIFIED:20180622T161451Z
UID:42000-1529571600-1529600400@www.wahbexchange.org
SUMMARY:Exchange Board Retreat
DESCRIPTION:Teleconference: 1-719-359-9722 \nPasscode: 773129 \nAudio will be limited during the meeting. \nMeeting Materials: \n\nAgenda\nCurrent State of the Exchange\nStrategic Plan Outline\nCEO Vision Statement: 2018-19 Strategic Initiatives\nGuest Speaker Bios\nHealth Equity Memo\n\n  \n
URL:https://www.wahbexchange.org/event/exchange-board-retreat/
LOCATION:810 Jefferson Street SE\, Olympia\, WA\, 98501\, United States
GEO:47.0415645;-122.8956701
X-APPLE-STRUCTURED-LOCATION;VALUE=URI;X-ADDRESS=810 Jefferson Street SE Olympia WA 98501 United States;X-APPLE-RADIUS=500;X-TITLE=810 Jefferson Street SE:geo:-122.8956701,47.0415645
CATEGORIES:Exchange Board
END:VEVENT
BEGIN:VEVENT
DTSTART;TZID=America/Los_Angeles:20180627T140000
DTEND;TZID=America/Los_Angeles:20180627T150000
DTSTAMP:20180626T082106
CREATED:20180605T203018Z
LAST-MODIFIED:20180622T232406Z
UID:42188-1530108000-1530111600@www.wahbexchange.org
SUMMARY:Plan Certification Workgroup
DESCRIPTION:Phone Conference \n1-719-359-9722 \nPasscode: 694406 \n
URL:https://www.wahbexchange.org/event/plan-certification-workgroup-2/
LOCATION:WA\, United States
GEO:47.7510741;-120.7401385
CATEGORIES:Plan Management Workgroup
END:VEVENT
END:VCALENDAR